BEGIN:VCALENDAR
VERSION:2.0
BEGIN:VEVENT
URL:https://tickets.youthaliveqld.com/outlet/event/e10e0a09-ed47-47d2-b217-a45c39c14045
DTSTART:20260528T083000Z
DTEND:20260528T083000Z
SUMMARY:FOR THE YOUTH TOUR | Brisbane
DESCRIPTION:Event details: https://tickets.youthaliveqld.com/outlet/event/e10e0a09-ed47-47d2-b217-a45c39c14045
LOCATION:Hope Centre Brisbane (Bowen Hills, QLD)
END:VEVENT
END:VCALENDAR