BEGIN:VCALENDAR
VERSION:2.0
BEGIN:VEVENT
URL:https://tickets.youthaliveqld.com/outlet/event/5bcc8fbf-b1ea-4ef3-bd49-32d05a08787a
DTSTART:20260529T230000Z
DTEND:20260529T230000Z
SUMMARY:FOR THE YOUTH TOUR | Gold Coast
DESCRIPTION:Event details: https://tickets.youthaliveqld.com/outlet/event/5bcc8fbf-b1ea-4ef3-bd49-32d05a08787a
LOCATION:King's Church Reedy Creek (Reedy Creek, QLD)
END:VEVENT
END:VCALENDAR