BEGIN:VCALENDAR
VERSION:2.0
BEGIN:VEVENT
URL:https://tickets.youthaliveqld.com/outlet/event/372426f5-98e7-4899-9407-40a614e766e1
DTSTART:20260525T083000Z
DTEND:20260525T083000Z
SUMMARY:FOR THE YOUTH TOUR | Mackay
DESCRIPTION:Event details: https://tickets.youthaliveqld.com/outlet/event/372426f5-98e7-4899-9407-40a614e766e1
LOCATION:NewLife Church Mackay (North Mackay, QLD)
END:VEVENT
END:VCALENDAR