BEGIN:VCALENDAR
VERSION:2.0
BEGIN:VEVENT
URL:https://tickets.youthaliveqld.com/outlet/event/3032b2fb-0fe5-4c38-a28f-2c72e945a277
DTSTART:20260527T083000Z
DTEND:20260527T083000Z
SUMMARY:FOR THE YOUTH TOUR | Sunshine Coast
DESCRIPTION:Event details: https://tickets.youthaliveqld.com/outlet/event/3032b2fb-0fe5-4c38-a28f-2c72e945a277
LOCATION:Sanctuary Church Sunshine Coast (Mons, QLD)
END:VEVENT
END:VCALENDAR