BEGIN:VCALENDAR
VERSION:2.0
BEGIN:VEVENT
URL:https://tickets.youthaliveqld.com/outlet/event/0665ed66-6666-40f2-8aad-f0f191862ab2
DTSTART:20260526T083000Z
DTEND:20260526T083000Z
SUMMARY:FOR THE YOUTH TOUR | Rockhampton
DESCRIPTION:Event details: https://tickets.youthaliveqld.com/outlet/event/0665ed66-6666-40f2-8aad-f0f191862ab2
LOCATION:Oasis Church Rockhampton (Rockhampton, QLD)
END:VEVENT
END:VCALENDAR